BEGIN:VCALENDAR
VERSION:2.0
PRODID:-//Tukios.com/
BEGIN:VEVENT
UID:36fdfb6a-a9d3-4f57-978b-cfc05b6d436a@www.grayfuneralhome.com
DTSTAMP:20260424T233639Z
DTSTART:20260427T180000Z
DTEND:20260427T190000Z
SUMMARY:Funeral Service
DESCRIPTION:
URL:https://www.grayfuneralhome.com/obituaries/harold-crenshaw
LOCATION:Gray Funeral Home Chapel 504 East Carolina Avenue  Clinton SC 
	29325
GEO:34.4709138;-81.8731879
END:VEVENT
END:VCALENDAR