BEGIN:VCALENDAR
VERSION:2.0
PRODID:-//Tukios.com/
BEGIN:VEVENT
UID:b8a2be27-163a-429c-b12f-f50f386815fc@www.grayfuneralhome.com
DTSTAMP:20260424T233542Z
DTSTART:20260427T170000Z
DTEND:20260427T180000Z
SUMMARY:Visitation
DESCRIPTION:
URL:https://www.grayfuneralhome.com/obituaries/harold-crenshaw
LOCATION:Gray Funeral Home Chapel 504 East Carolina Avenue  Clinton SC 
	29325
GEO:34.4709138;-81.8731879
END:VEVENT
END:VCALENDAR