BEGIN:VCALENDAR
VERSION:2.0
PRODID:-//Tukios.com/
BEGIN:VEVENT
UID:18803e33-8f10-4aab-b78e-cb31b12baa8e@www.grayfuneralhome.com
DTSTAMP:20260419T235059Z
DTSTART:20260421T160000Z
DTEND:20260421T170000Z
SUMMARY:Funeral Service
DESCRIPTION:
URL:https://www.grayfuneralhome.com/obituaries/frances-rowe
LOCATION:Lydia Mill Church of God 685 Peachtree Street  Clinton SC 29325
GEO:34.4679649;-81.8985538
END:VEVENT
END:VCALENDAR