BEGIN:VCALENDAR
VERSION:2.0
PRODID:-//Tukios.com/
BEGIN:VEVENT
UID:482a7156-09c3-4681-83b1-709946491dbb@www.grayfuneralhome.com
DTSTAMP:20260419T234446Z
DTSTART:20260421T150000Z
DTEND:20260421T160000Z
SUMMARY:Visitation
DESCRIPTION:
URL:https://www.grayfuneralhome.com/obituaries/frances-rowe
LOCATION:Lydia Mill Church of God 685 Peachtree Street  Clinton SC 29325
GEO:34.4679649;-81.8985538
END:VEVENT
END:VCALENDAR