BEGIN:VCALENDAR
VERSION:2.0
PRODID:-//Tukios.com/
BEGIN:VEVENT
UID:34ad37ae-29b1-4810-b299-042332f28106@www.grayfuneralhome.com
DTSTAMP:20260422T225924Z
DTSTART:20260427T214500Z
DTEND:20260427T220000Z
SUMMARY:Visitation
DESCRIPTION:
URL:https://www.grayfuneralhome.com/obituaries/cheryl-martin
LOCATION: 244 West Main Street  Laurens SC 29360
GEO:34.4988812;-82.0176225
END:VEVENT
END:VCALENDAR