BEGIN:VCALENDAR
VERSION:2.0
PRODID:-//Tukios.com/
BEGIN:VEVENT
UID:c444acfe-9395-4054-81e8-c807b844b561@www.grayfuneralhome.com
DTSTAMP:20260422T225504Z
DTSTART:20260427T210000Z
DTEND:20260427T220000Z
SUMMARY:Celebration of Life
DESCRIPTION:
URL:https://www.grayfuneralhome.com/obituaries/cheryl-martin
LOCATION: 244 West Main Street  Laurens SC 29360
GEO:34.4988812;-82.0176225
END:VEVENT
END:VCALENDAR