BEGIN:VCALENDAR
VERSION:2.0
PRODID:-//Tukios.com/
BEGIN:VEVENT
UID:1d99a48c-456b-49b5-a832-8c567d4e04e4@www.grayfuneralhome.com
DTSTAMP:20260421T223951Z
DTSTART:20260502
SUMMARY:Visitation Immediatley Following
DESCRIPTION:
URL:https://www.grayfuneralhome.com/obituaries/billie-boyden
LOCATION:Thornwell - Bryan Miller Mac Cottage 108 W. Calhoun Street  
	Clinton SC 29325
GEO:34.4666515;-81.8796275
END:VEVENT
END:VCALENDAR