BEGIN:VCALENDAR
VERSION:2.0
PRODID:-//Tukios.com/
BEGIN:VEVENT
UID:642ce0ad-25cf-4e5b-ab39-f7dc22d798ed@www.grayfuneralhome.com
DTSTAMP:20260421T224049Z
DTSTART:20260502T143000Z
DTEND:20260502T153000Z
SUMMARY:Celebration of Life
DESCRIPTION:
URL:https://www.grayfuneralhome.com/obituaries/billie-boyden
LOCATION: 302 South Broad Street  Clinton SC 29325
GEO:34.4685244;-81.8825102
END:VEVENT
END:VCALENDAR